BEGIN:VCALENDAR
VERSION:2.0
PRODID:-//Lamorinda Arts Council - ECPv6.15.20//NONSGML v1.0//EN
CALSCALE:GREGORIAN
METHOD:PUBLISH
X-WR-CALNAME:Lamorinda Arts Council
X-ORIGINAL-URL:https://lamorindaarts.org
X-WR-CALDESC:Events for Lamorinda Arts Council
REFRESH-INTERVAL;VALUE=DURATION:PT1H
X-Robots-Tag:noindex
X-PUBLISHED-TTL:PT1H
BEGIN:VTIMEZONE
TZID:America/Los_Angeles
BEGIN:DAYLIGHT
TZOFFSETFROM:-0800
TZOFFSETTO:-0700
TZNAME:PDT
DTSTART:20230312T100000
END:DAYLIGHT
BEGIN:STANDARD
TZOFFSETFROM:-0700
TZOFFSETTO:-0800
TZNAME:PST
DTSTART:20231105T090000
END:STANDARD
BEGIN:DAYLIGHT
TZOFFSETFROM:-0800
TZOFFSETTO:-0700
TZNAME:PDT
DTSTART:20240310T100000
END:DAYLIGHT
BEGIN:STANDARD
TZOFFSETFROM:-0700
TZOFFSETTO:-0800
TZNAME:PST
DTSTART:20241103T090000
END:STANDARD
BEGIN:DAYLIGHT
TZOFFSETFROM:-0800
TZOFFSETTO:-0700
TZNAME:PDT
DTSTART:20250309T100000
END:DAYLIGHT
BEGIN:STANDARD
TZOFFSETFROM:-0700
TZOFFSETTO:-0800
TZNAME:PST
DTSTART:20251102T090000
END:STANDARD
END:VTIMEZONE
BEGIN:VEVENT
DTSTART;TZID=America/Los_Angeles:20241103T140000
DTEND;TZID=America/Los_Angeles:20241103T163000
DTSTAMP:20260421T073845
CREATED:20240724T190830Z
LAST-MODIFIED:20241101T222330Z
UID:37887-1730642400-1730651400@lamorindaarts.org
SUMMARY:Artist Reception\, November 2024 | Art Gallery at Wilder
DESCRIPTION:Please join us at the Wilder Art & Garden Center for this month’s Artist Reception in honor of artist Denise Nomura presenting her solo exhibit “Abstract Serenity – A Reflection of Nature’s Beauty”! \nNomura’s artwork has evolved from meticulous representational portrayals of nature to currently expressing herself in an abstract format. “I have finally found my stride and comfort zone in abstract Impressionism\,” she said. \nMeet Denise\, view the art\, and enjoy light refreshments… \nArtist Reception\nSunday\, November 3\, 2:00- 4:30 pm\nWilder Art & Garden Center\n20 Orinda Fields Lane\n*Parking is available in the parking lots next to Field 3. Accessible parking spaces are available near an adjacent Accessible ramp leading up to the Art & Garden Center. Look for our Wilder Gallery signage to direct you. \nAll the details\, including driving directions to the gallery\, are available on our website. You may also view and purchase art from this exhibit in our Wilder Online Gallery.
URL:https://lamorindaarts.org/event/artist-reception-november-2024-art-gallery-at-wilder/
LOCATION:Art Gallery at Wilder\, 20 Orinda Fields Lane\, Orinda\, CA\, 94563\, United States
CATEGORIES:Art Gallery at Wilder,Visual Arts
ATTACH;FMTTYPE=image/png:https://lamorindaarts.org/wp-content/uploads/2024/11/Wilder-August-2024-2.png
END:VEVENT
END:VCALENDAR