BEGIN:VCALENDAR
VERSION:2.0
PRODID:-//Lamorinda Arts Council - ECPv6.15.20//NONSGML v1.0//EN
CALSCALE:GREGORIAN
METHOD:PUBLISH
X-ORIGINAL-URL:https://lamorindaarts.org
X-WR-CALDESC:Events for Lamorinda Arts Council
REFRESH-INTERVAL;VALUE=DURATION:PT1H
X-Robots-Tag:noindex
X-PUBLISHED-TTL:PT1H
BEGIN:VTIMEZONE
TZID:America/Los_Angeles
BEGIN:DAYLIGHT
TZOFFSETFROM:-0800
TZOFFSETTO:-0700
TZNAME:PDT
DTSTART:20230312T100000
END:DAYLIGHT
BEGIN:STANDARD
TZOFFSETFROM:-0700
TZOFFSETTO:-0800
TZNAME:PST
DTSTART:20231105T090000
END:STANDARD
BEGIN:DAYLIGHT
TZOFFSETFROM:-0800
TZOFFSETTO:-0700
TZNAME:PDT
DTSTART:20240310T100000
END:DAYLIGHT
BEGIN:STANDARD
TZOFFSETFROM:-0700
TZOFFSETTO:-0800
TZNAME:PST
DTSTART:20241103T090000
END:STANDARD
BEGIN:DAYLIGHT
TZOFFSETFROM:-0800
TZOFFSETTO:-0700
TZNAME:PDT
DTSTART:20250309T100000
END:DAYLIGHT
BEGIN:STANDARD
TZOFFSETFROM:-0700
TZOFFSETTO:-0800
TZNAME:PST
DTSTART:20251102T090000
END:STANDARD
END:VTIMEZONE
BEGIN:VEVENT
DTSTART;TZID=America/Los_Angeles:20241006T143000
DTEND;TZID=America/Los_Angeles:20241006T163000
DTSTAMP:20260421T073219
CREATED:20240724T190707Z
LAST-MODIFIED:20241003T035351Z
UID:37885-1728225000-1728232200@lamorindaarts.org
SUMMARY:Artist Reception\, October 2024 | Art Gallery at Wilder | Marianne McCraney "Presence: Portraits of Seniors"
DESCRIPTION:Please join us at the Wilder Art & Garden Center for this month’s Artist Reception! \nThe Art Gallery at Wilder | October 2024 Exhibit \n\nLamorinda Arts Council is proud to present … \n\n\nMarianne McCraney | “Presence: Portraits of Seniors” \nOctober 7 – November 1\, 2024 | Mondays – Fridays\, 3:00 – 5:00 pm \nYou’re invited to this solo show featuring artist Marianne McCraney whose oil and watercolor paintings “strive to elevate the ordinary elements of our world”. The expressive portraits in this show reveal seniors doing things they love – reading\, walking\, working in the tool shed\, visiting a friend\, and more. It’s a wonderful celebration of older adults in their element. Come see it! \n\nMeet Marianne at the Artist Reception where you may view the art and enjoy light refreshments… \nArtist Reception | Marianne McCraney\nSunday\, October 6\, 2:30- 4:30 pm\nWilder Art & Garden Center\n20 Orinda Fields Lane\n*Parking is available in the parking lots next to Field 3. Accessible parking spaces are available near an adjacent Accessible ramp leading up to the Art & Garden Center. Look for our Wilder Gallery signage to direct you. \nAll the details\, including driving directions to the gallery\, are available on our website. You may also view and purchase art from this exhibit in our Wilder Online Gallery.
URL:https://lamorindaarts.org/event/artist-reception-october-2024-art-gallery-at-wilder/
LOCATION:Art Gallery at Wilder\, 20 Orinda Fields Lane\, Orinda\, CA\, 94563\, United States
CATEGORIES:Art Gallery at Wilder,Visual Arts
ATTACH;FMTTYPE=image/png:https://lamorindaarts.org/wp-content/uploads/2024/10/Wilder-October-2024.png
END:VEVENT
END:VCALENDAR