BEGIN:VCALENDAR
VERSION:2.0
PRODID:-//Lamorinda Arts Council - ECPv6.15.20//NONSGML v1.0//EN
CALSCALE:GREGORIAN
METHOD:PUBLISH
X-ORIGINAL-URL:https://lamorindaarts.org
X-WR-CALDESC:Events for Lamorinda Arts Council
REFRESH-INTERVAL;VALUE=DURATION:PT1H
X-Robots-Tag:noindex
X-PUBLISHED-TTL:PT1H
BEGIN:VTIMEZONE
TZID:America/Los_Angeles
BEGIN:DAYLIGHT
TZOFFSETFROM:-0800
TZOFFSETTO:-0700
TZNAME:PDT
DTSTART:20230312T100000
END:DAYLIGHT
BEGIN:STANDARD
TZOFFSETFROM:-0700
TZOFFSETTO:-0800
TZNAME:PST
DTSTART:20231105T090000
END:STANDARD
BEGIN:DAYLIGHT
TZOFFSETFROM:-0800
TZOFFSETTO:-0700
TZNAME:PDT
DTSTART:20240310T100000
END:DAYLIGHT
BEGIN:STANDARD
TZOFFSETFROM:-0700
TZOFFSETTO:-0800
TZNAME:PST
DTSTART:20241103T090000
END:STANDARD
BEGIN:DAYLIGHT
TZOFFSETFROM:-0800
TZOFFSETTO:-0700
TZNAME:PDT
DTSTART:20250309T100000
END:DAYLIGHT
BEGIN:STANDARD
TZOFFSETFROM:-0700
TZOFFSETTO:-0800
TZNAME:PST
DTSTART:20251102T090000
END:STANDARD
END:VTIMEZONE
BEGIN:VEVENT
DTSTART;TZID=America/Los_Angeles:20241027T160000
DTEND;TZID=America/Los_Angeles:20241027T180000
DTSTAMP:20260419T092714
CREATED:20240724T185913Z
LAST-MODIFIED:20241022T214644Z
UID:37874-1730044800-1730052000@lamorindaarts.org
SUMMARY:Mocktails & Cocktails {Last Chance}
DESCRIPTION:Hello Lovers of all Things Creative\, and Goodbye too! \nJoin friends of the Lamorinda Arts Council for one last artsy talk about the creative life. We do want to hear about what you are working on – writing\, music\, dance\, photography\, ceramics – you name it. Literally. We want to know what is stirring up (or blocking) your creative juices. \nFind us by looking for our poster of surrealist Dora Maar (pictured). No RSVP is required\, just show up. \nWe have shown up for Mocktails & Cocktails every last Sunday monthly since 2022 (except in December). \nThe time has come to fold up this particular creative tent. We will keep creating and making all kinds of things and hope you do as well. We thank the Lafayette creative community for the inspiration\, ideas\, and especially the laughter. Keep Creating! \n“Ars Longa\, Vita Brevis” – art lives forever\, life is short. \nMocktails & Cocktails\nSunday\, October 27th\, 4 – 6pm\nTutu’s Food & Drink\n53 Lafayette Circle\, Lafayette \nNo host bar.
URL:https://lamorindaarts.org/event/mocktails-cocktails-october-2024/
LOCATION:Tutu’s Food & Drink\, 53 Lafayette Circle\, Lafayette\, CA\, 94549\, United States
CATEGORIES:LAC Community Event
ATTACH;FMTTYPE=image/jpeg:https://lamorindaarts.org/wp-content/uploads/2024/07/Abstract-art-woman.jpg
END:VEVENT
END:VCALENDAR