BEGIN:VCALENDAR
VERSION:2.0
PRODID:-//Lamorinda Arts Council - ECPv6.15.20//NONSGML v1.0//EN
CALSCALE:GREGORIAN
METHOD:PUBLISH
X-ORIGINAL-URL:https://lamorindaarts.org
X-WR-CALDESC:Events for Lamorinda Arts Council
REFRESH-INTERVAL;VALUE=DURATION:PT1H
X-Robots-Tag:noindex
X-PUBLISHED-TTL:PT1H
BEGIN:VTIMEZONE
TZID:America/Los_Angeles
BEGIN:DAYLIGHT
TZOFFSETFROM:-0800
TZOFFSETTO:-0700
TZNAME:PDT
DTSTART:20240310T100000
END:DAYLIGHT
BEGIN:STANDARD
TZOFFSETFROM:-0700
TZOFFSETTO:-0800
TZNAME:PST
DTSTART:20241103T090000
END:STANDARD
BEGIN:DAYLIGHT
TZOFFSETFROM:-0800
TZOFFSETTO:-0700
TZNAME:PDT
DTSTART:20250309T100000
END:DAYLIGHT
BEGIN:STANDARD
TZOFFSETFROM:-0700
TZOFFSETTO:-0800
TZNAME:PST
DTSTART:20251102T090000
END:STANDARD
BEGIN:DAYLIGHT
TZOFFSETFROM:-0800
TZOFFSETTO:-0700
TZNAME:PDT
DTSTART:20260308T100000
END:DAYLIGHT
BEGIN:STANDARD
TZOFFSETFROM:-0700
TZOFFSETTO:-0800
TZNAME:PST
DTSTART:20261101T090000
END:STANDARD
END:VTIMEZONE
BEGIN:VEVENT
DTSTART;TZID=America/Los_Angeles:20250518T170000
DTEND;TZID=America/Los_Angeles:20250518T190000
DTSTAMP:20260419T173017
CREATED:20241030T173004Z
LAST-MODIFIED:20241030T173004Z
UID:38729-1747587600-1747594800@lamorindaarts.org
SUMMARY:Live At the Orinda! Concert Series | David Marino
DESCRIPTION:Due to popular demand\, the multi-lingual jazz singer from Montreal returns to the Orinda Theatre for our 2025 season finale! David Marino made his West Coast concert debut at the Orinda Theatre in March of 2024\, entrancing everyone with his gorgeous voice\, his charming and sincere personality\, and his undeniable charisma on stage. David began singing and performing at only 6 years of age and was instantly inspired by legends such as Sammy Davis Jr.\, Frank Sinatra\, Tony Bennett\, and Charles Aznavour\, among others. In his native Canada\, David is best known for his appearance as a finalist on Canada’s hit TV show The Voice\, under the mentorship of famous French artist and songwriter Pierre Lapointe. Currently working on his debut album\, David continues to wow audiences throughout Canada\, Italy\, and the US\, performing regularly at New York’s Birdland Jazz Club. www.davidmarino.net \n“Move over Michael Bublé\, there’s a new Canadian heartthrob…and that is one David Marino. David Marino is not to be missed!” – Theatre Pizzazz \n“David is a crazy natural\, with an incredible talent. He belongs to the stage and the stage belongs to him.” – Pierre Lapointe\, The Voice \n“One word: Phenomenal! He’s just brilliant and his singing is just wonderful” – jazz/cabaret legend Marilyn Maye
URL:https://lamorindaarts.org/event/live-at-the-orinda-concert-series-david-marino/
LOCATION:Orinda Theatre\, 2 Orinda Theater Square\, Orinda\, CA\, 94563\, United States
CATEGORIES:Community Event,Performing Arts
ATTACH;FMTTYPE=image/jpeg:https://lamorindaarts.org/wp-content/uploads/2024/10/DavidMarino.jpeg
END:VEVENT
BEGIN:VEVENT
DTSTART;TZID=America/Los_Angeles:20250620T180000
DTEND;TZID=America/Los_Angeles:20250620T180000
DTSTAMP:20260419T173017
CREATED:20250612T213334Z
LAST-MODIFIED:20250613T005404Z
UID:41495-1750442400-1750442400@lamorindaarts.org
SUMMARY:Through Lines | St. Mary's College
DESCRIPTION:Through Lines features original solo dance works by nine MFA students and will take place on June 20th at 6pm in the LeFevre Theater\, Saint Mary’s College\, at no cost for audience members. The show explores themes of personal narrative\, memory\, and movement through contemporary and culturally rooted dance forms.
URL:https://lamorindaarts.org/event/through-lines/
LOCATION:LeFevre Theatre\, 1928 St. Marys Road\, Moraga\, CA\, 94575\, United States
CATEGORIES:Community Event
ATTACH;FMTTYPE=image/png:https://lamorindaarts.org/wp-content/uploads/2025/06/Through-Lines-MFA-Dance-Performance.png
END:VEVENT
BEGIN:VEVENT
DTSTART;VALUE=DATE:20251109
DTEND;VALUE=DATE:20251110
DTSTAMP:20260419T173017
CREATED:20251030T235707Z
LAST-MODIFIED:20251030T235732Z
UID:42318-1762646400-1762732799@lamorindaarts.org
SUMMARY:Live At the Orinda! Concert Series | Ali Ewoldt
DESCRIPTION:Broadway star Ali Ewoldt\, will be making her West Coast concert debut November 9 at the historic Orinda Theatre! In 2016\, Ali created Broadway history when she became the first woman of color\, the first Asian-American and the first Filipina-American to star as Christine Dae in Phantom Of the Opera\, earning universal praise and rave reviews. Ali Ewoldt made her Broadway debut just a few years earlier as Cosette in the Broadway revival of Les Misérables\, co-starring with Tony winner Lea Salonga. She also appeared in Lincoln Center’s recent Tony Award winning revival of The King and I and as Luisa in The Fantasticks Off-Broadway\, the world’s longest running musical. Her other credits include: The Secret Garden (Rose) at CTG in Los Angeles; Chicago (Mary Sunshine)\, 1776  (Martha Jefferson) and A Funny Thing Happened on the Way to the Forum (Philia)\, all at The Muny in St. Louis; Guys and Dolls (Sarah Brown) at Sacramento Music Circus; The King and I (Tuptim) at Lyric Opera of Chicago\, and a one-woman adaptation of Anne of Green Gables\, Off-Broadway. National tours and regional productions include Les Misérables\,The King and I\, West Side Story\, Into the Woods\, She Loves Me\, A Christmas Carol\, and The Secret Garden. Tix: https://www.orindamovies.com/live-at-orinda/
URL:https://lamorindaarts.org/event/live-at-the-orinda-concert-series-ali-ewoldt/
LOCATION:Orinda Theatre\, 2 Orinda Theater Square\, Orinda\, CA\, 94563\, United States
CATEGORIES:Community Event,Performing Arts
ATTACH;FMTTYPE=image/jpeg:https://lamorindaarts.org/wp-content/uploads/2025/10/A.-Ewoldt-2016-4-scaled.jpg
END:VEVENT
END:VCALENDAR