BEGIN:VCALENDAR
VERSION:2.0
PRODID:-//Lamorinda Arts Council - ECPv6.15.20//NONSGML v1.0//EN
CALSCALE:GREGORIAN
METHOD:PUBLISH
X-WR-CALNAME:Lamorinda Arts Council
X-ORIGINAL-URL:https://lamorindaarts.org
X-WR-CALDESC:Events for Lamorinda Arts Council
REFRESH-INTERVAL;VALUE=DURATION:PT1H
X-Robots-Tag:noindex
X-PUBLISHED-TTL:PT1H
BEGIN:VTIMEZONE
TZID:America/Los_Angeles
BEGIN:DAYLIGHT
TZOFFSETFROM:-0800
TZOFFSETTO:-0700
TZNAME:PDT
DTSTART:20230312T100000
END:DAYLIGHT
BEGIN:STANDARD
TZOFFSETFROM:-0700
TZOFFSETTO:-0800
TZNAME:PST
DTSTART:20231105T090000
END:STANDARD
BEGIN:DAYLIGHT
TZOFFSETFROM:-0800
TZOFFSETTO:-0700
TZNAME:PDT
DTSTART:20240310T100000
END:DAYLIGHT
BEGIN:STANDARD
TZOFFSETFROM:-0700
TZOFFSETTO:-0800
TZNAME:PST
DTSTART:20241103T090000
END:STANDARD
BEGIN:DAYLIGHT
TZOFFSETFROM:-0800
TZOFFSETTO:-0700
TZNAME:PDT
DTSTART:20250309T100000
END:DAYLIGHT
BEGIN:STANDARD
TZOFFSETFROM:-0700
TZOFFSETTO:-0800
TZNAME:PST
DTSTART:20251102T090000
END:STANDARD
BEGIN:DAYLIGHT
TZOFFSETFROM:-0800
TZOFFSETTO:-0700
TZNAME:PDT
DTSTART:20260308T100000
END:DAYLIGHT
BEGIN:STANDARD
TZOFFSETFROM:-0700
TZOFFSETTO:-0800
TZNAME:PST
DTSTART:20261101T090000
END:STANDARD
END:VTIMEZONE
BEGIN:VEVENT
DTSTART;VALUE=DATE:20241114
DTEND;VALUE=DATE:20250115
DTSTAMP:20260421T041411
CREATED:20241111T192510Z
LAST-MODIFIED:20241111T192510Z
UID:38933-1731542400-1736899199@lamorindaarts.org
SUMMARY:Winter | An LAA Exhibit at Papillon Gourmet Coffee & Tea
DESCRIPTION:The magic of Winter. There’s a chill in the air\, the warmth of getting together with family and friends\, children filled with wonder and excitement\, and a watchful eye on the power of nature. It’s a great time to savor a warm beverage while enjoying the paintings of your artist neighbors and welcome a new season and a new year. \nLamorinda Arts Alliance is a diverse group of artists\, each on a unique artistic journey\, whose work reflects their experiences\, dreams\, passions\, and heritage. The exhibit was curated by LAA member Karen Baden Thapa. We thank her for her commitment to bringing local art to the community. \nFor more information on Lamorinda Arts Alliance and to see more work by the member artists\, please visit LAA4Art.org. \nThe exhibit runs from November 14th to January 14th. Papillon Gourmet Coffee and Tea is in La Fiesta Square\, at 67 Lafayette Circle. There is metered parking at La Fiesta Square.
URL:https://lamorindaarts.org/event/winter-an-laa-exhibit-at-papillon-gourmet-coffee-tea/
LOCATION:Papillon Gourmet Coffee & Tea\, 67 Lafayette Circle\, Lafayette\, CA\, 94549
CATEGORIES:Community Event,Visual Arts
ATTACH;FMTTYPE=image/jpeg:https://lamorindaarts.org/wp-content/uploads/2024/11/unnamed-5.jpg
END:VEVENT
END:VCALENDAR